BEGIN:VCALENDAR
VERSION:2.0
PRODID:-//Library Market//iCal Export//EN
BEGIN:VEVENT
SUMMARY:Uintah Basin Widows
UID:30300
DTSTAMP:20260425T105100Z
DTSTART:20260523T170000Z
DTEND:20260523T191500Z
LOCATION:Uintah County Library, 204 East 100 North, Vernal, UT 84078, Unit
 ed States
ROOM: Upstairs Meeting Room
DESCRIPTION:A group of local widows meeting to talk and support each other
 .
URL:https://uintahcounty.librarymarket.com/event/uintah-basin-widows-30300
END:VEVENT
END:VCALENDAR
