BEGIN:VCALENDAR
VERSION:2.0
PRODID:-//Library Market//iCal Export//EN
BEGIN:VEVENT
SUMMARY:Pajama Yoga Storytime!
UID:30312
DTSTAMP:20260424T142400Z
DTSTART:20260528T233000Z
DTEND:20260529T003000Z
LOCATION:Uintah County Library, 204 East 100 North, Vernal, UT 84078, Unit
 ed States
ROOM: Downstairs Meeting Room
DESCRIPTION:Kids and adults are invited to participate in a basic yoga ses
 sion of instruction and stories. We aim to exercise your mind, body, and s
 pirit. This activity is fun for everyone, but is geared towards children a
 ged 4+ and adults. Pajamas are optional.We may meet outside, weather permi
 tting.
URL:https://uintahcounty.librarymarket.com/index.php/event/pajama-yoga-sto
 rytime-30312
END:VEVENT
END:VCALENDAR
