BEGIN:VCALENDAR
VERSION:2.0
PRODID:-//Library Market//iCal Export//EN
BEGIN:VEVENT
SUMMARY:Love and Logic
UID:30292
DTSTAMP:20260421T221500Z
DTSTART:20260709T000000Z
DTEND:20260709T014500Z
LOCATION:Uintah County Library, 204 East 100 North, Vernal, UT 84078, Unit
 ed States
ROOM: Upstairs Meeting Room
DESCRIPTION:Love and Logic makes the science of raising and teaching kids 
 fun and practical.
URL:https://uintahcounty.librarymarket.com/index.php/event/love-and-logic-
 30292
END:VEVENT
END:VCALENDAR
